BEGIN:VCALENDAR
VERSION:2.0
PRODID:-//91.230.22.151//NONSGML kigkonsult.se iCalcreator 2.16.12//
BEGIN:VTIMEZONE
TZID:Europe/London
TZOFFSETFROM:+0000
TZOFFSETTO:UM12
END:VTIMEZONE
BEGIN:VEVENT
UID:20260421T095903CEST-6309kl0UGZa@www.innsbruck-christuskirche.at
DTSTAMP:20260421T075903Z
DESCRIPTION:Der April-Termin des Taizé-Gebets muss ausnahmsweise abgesagt w
 erden.
DTSTART:20260407T190000
DTEND:20260407T200000
SUMMARY:ABGESAGT: Taizé Gebet
END:VEVENT
END:VCALENDAR
