BEGIN:VCALENDAR
VERSION:2.0
PRODID:-//91.230.22.151//NONSGML kigkonsult.se iCalcreator 2.16.12//
BEGIN:VTIMEZONE
TZID:Europe/London
TZOFFSETFROM:+0000
TZOFFSETTO:UM12
END:VTIMEZONE
BEGIN:VEVENT
UID:20260423T143502CEST-3840VdtXUpa@www.innsbruck-christuskirche.at
DTSTAMP:20260423T123502Z
DESCRIPTION:Der Jahresabschluss der Evangelischen Jugend Innsbruck\n\nAlte 
 und neue Freunde treffen\, grillen\, spielen\, reden\, Gottesdienst feiern
 \n\nWillkommen sind\n\n\n	Evangelische und Nicht-Evangelische\n	Frisch Konfi
 rmierte und Alte Hasen\n	Eigentlich alle ab 14\n
DTSTART:20250703T180000
DTEND:20250703T203000
SUMMARY:The Big Chill
END:VEVENT
END:VCALENDAR
