BEGIN:VCALENDAR
VERSION:2.0
PRODID:-//91.230.22.151//NONSGML kigkonsult.se iCalcreator 2.16.12//
BEGIN:VTIMEZONE
TZID:Europe/London
TZOFFSETFROM:+0000
TZOFFSETTO:UM12
END:VTIMEZONE
BEGIN:VEVENT
UID:20260421T094953CEST-3998mMMe3ua@www.innsbruck-christuskirche.at
DTSTAMP:20260421T074953Z
DESCRIPTION:Für die Kleinsten und ihre Lieben steht in der Kirche ein Kinde
 rraum zur Verfügung.​​​\n\nDie Christuskirche ist mit einer induktiven Hör
 anlage ausgestattet – wenn Sie ein Hörgerät tragen\, stellen Sie es bitte 
 auf T oder M/T. Außerdem steht eine Auracast-Anlage (versuchsweise) zur Au
 dioübertragung zur Verfügung.
DTSTART:20241224T230000
DTEND:20241224T230000
RRULE:FREQ=YEARLY
SUMMARY:Christmette Christuskirche
END:VEVENT
END:VCALENDAR
