BEGIN:VCALENDAR
VERSION:2.0
PRODID:-//91.230.22.151//NONSGML kigkonsult.se iCalcreator 2.16.12//
BEGIN:VTIMEZONE
TZID:Europe/London
TZOFFSETFROM:+0000
TZOFFSETTO:UM12
END:VTIMEZONE
BEGIN:VEVENT
UID:20260421T094938CEST-5107KocT93a@www.innsbruck-christuskirche.at
DTSTAMP:20260421T074938Z
DESCRIPTION:Predigt über die Jahreslosung 2026:\n\nGott spricht: Siehe\, ic
 h mache alles neu!' (Offb 21\,5b)\n\nMusik: Barbara und Joe Laube (Flöte u
 nd Horn) sowie Ulrike Riccabona (Orgel). Im Anschluss laden wir herzlich e
 in\, im Gemeindesaal aufs Neue Jahr anzustoßen.\n\nFür die Kleinsten und i
 hre Lieben steht in der Kirche ein Kinderraum zur Verfügung.​​​\n\nDie Chr
 istuskirche ist mit einer induktiven Höranlage ausgestattet – wenn Sie ein
  Hörgerät tragen\, stellen Sie es bitte auf T oder M/T. Außerdem steht ein
 e Auracast-Anlage (versuchsweise) zur Audioübertragung zur Verfügung.
DTSTART:20251231T170000
DTEND:20251231T170000
SUMMARY:Altjahresabend Christuskirche
END:VEVENT
END:VCALENDAR
