BEGIN:VCALENDAR
VERSION:2.0
PRODID:-//91.230.22.151//NONSGML kigkonsult.se iCalcreator 2.16.12//
BEGIN:VTIMEZONE
TZID:Europe/London
TZOFFSETFROM:+0000
TZOFFSETTO:UM12
END:VTIMEZONE
BEGIN:VEVENT
UID:20260419T154817CEST-0900kUNAiUa@www.innsbruck-christuskirche.at
DTSTAMP:20260419T134817Z
DTSTART:20251231T160000
DTEND:20251231T160000
SUMMARY:Altjahresabend Seefeld
END:VEVENT
END:VCALENDAR
