BEGIN:VCALENDAR
VERSION:2.0
PRODID:-//91.230.22.151//NONSGML kigkonsult.se iCalcreator 2.16.12//
BEGIN:VTIMEZONE
TZID:Europe/London
TZOFFSETFROM:+0000
TZOFFSETTO:UM12
END:VTIMEZONE
BEGIN:VEVENT
UID:20260421T095836CEST-6858a2ue6Ja@www.innsbruck-christuskirche.at
DTSTAMP:20260421T075836Z
DESCRIPTION:Gottesdienst am Altjahresabend mit Gedächtnis an die Verstorben
 en des vergangenen Jahres.
DTSTART:20251231T183000
DTEND:20251231T183000
SUMMARY:Altjahresabend Völs
END:VEVENT
END:VCALENDAR
