BEGIN:VCALENDAR
VERSION:2.0
PRODID:-//91.230.22.151//NONSGML kigkonsult.se iCalcreator 2.16.12//
BEGIN:VTIMEZONE
TZID:Europe/London
TZOFFSETFROM:+0000
TZOFFSETTO:UM12
END:VTIMEZONE
BEGIN:VEVENT
UID:20260421T133921CEST-7510zHxWjua@www.innsbruck-christuskirche.at
DTSTAMP:20260421T113921Z
DESCRIPTION:Zu Beginn des neuen Arbeitsjahres möchten wir zu diesem Gottesd
 ienst einladen\, bei dem Freiwillige aus den unterschiedlichsten Organisat
 ionen in Innsbruck zusammenkommen\, miteinander beten und feiern und einan
 der begegnen können.\n\nDen Gottesdienst feiern Pfarrerin Silke Dantine un
 d Dekan Bernhard Kranebitter mit uns. Anschließend laden wir alle zur Bege
 gnung bei einer Agape ein.
DTSTART:20250925T180000
DTEND:20250925T180000
SUMMARY:Dankgottesdienst Besuchsdienstkreise
END:VEVENT
END:VCALENDAR
