BEGIN:VCALENDAR
VERSION:2.0
PRODID:-//91.230.22.151//NONSGML kigkonsult.se iCalcreator 2.16.12//
BEGIN:VTIMEZONE
TZID:Europe/London
TZOFFSETFROM:+0000
TZOFFSETTO:UM12
END:VTIMEZONE
BEGIN:VEVENT
UID:20260421T095836CEST-2203wBCXHMa@www.innsbruck-christuskirche.at
DTSTAMP:20260421T075836Z
DESCRIPTION:Andacht mit Gedenken der Verstorbenen am Evangelischen Friedhof
  (am Westfriedhof). Musikalische Gestaltung: Adrian Geißelbrecht.
DTSTART:20241101T143000
DTEND:20241101T143000
RRULE:FREQ=YEARLY
SUMMARY:Allerheiligen am Westfriedhof Innsbruck
END:VEVENT
END:VCALENDAR
