BEGIN:VCALENDAR
VERSION:2.0
PRODID:-//91.230.22.151//NONSGML kigkonsult.se iCalcreator 2.16.12//
BEGIN:VTIMEZONE
TZID:Europe/London
TZOFFSETFROM:+0000
TZOFFSETTO:UM12
END:VTIMEZONE
BEGIN:VEVENT
UID:20260421T094937CEST-98963EHlkja@www.innsbruck-christuskirche.at
DTSTAMP:20260421T074937Z
DESCRIPTION:Treffpunkt um 16 Uhr: Annasäule Innsbruck\n\nKundgebung „Silent
  together for peace” mit Vertreter*innen verschiedener Religionsgemeinscha
 ften und Gruppierungen. Bitte Kerze oder Windlicht selbst mitbringen. Im A
 nschluss Zusammenstehen bei mitgebrachten Keksen.
DTSTART:20260101T160000
DTEND:20260101T160000
SUMMARY:Weltfriedenstag – Lichterzug und Kundgebung
END:VEVENT
END:VCALENDAR
