BEGIN:VCALENDAR
VERSION:2.0
PRODID:-//91.230.22.151//NONSGML kigkonsult.se iCalcreator 2.16.12//
BEGIN:VTIMEZONE
TZID:Europe/London
TZOFFSETFROM:+0000
TZOFFSETTO:UM12
END:VTIMEZONE
BEGIN:VEVENT
UID:20260425T024527CEST-7028WTXnx5a@www.innsbruck-christuskirche.at
DTSTAMP:20260425T004527Z
DESCRIPTION:Der ORF-Radiogottesdienst vom Pfingstmontag\, 1. Juni\, kommt a
 us Kufstein in Tirol. „Der Heilige Geist beflügelt. Er überwindet alle Beg
 ren-zungen und Einschränkungen des Lebens und führt in die Weite.' Unter d
 iese Überschrift stellen Pfarrer Robert Jonischkeit und sein Team den Gott
 esdienst\, der ab 10 Uhr auf den Regionalsendern des ORF (ausgenommen Radi
 o Wien) übertragen wird. Jonischkeit: „Durch die Pandemie bedingt haben di
 e Menschen die existentielle Erfahrung von Einen-gung\, Beschränkung\, Beg
 renzung und Verboten gemacht. Das kann Angst und Unsicher-heit erzeugen. G
 anz ähnlich ging es den Jüngern nach dem Tod Jesu. Sie haben sich ein-gesp
 errt\, waren verängstigt und perspektivenlos.' Auf diese Gefühle wolle er 
 in dem Got-tesdienst\, der aus der Kufsteiner Johanneskirche übertragen wi
 rd\, eingehen. So präzisiert Jonischkeit: „Als Jesus erschien und den Jüng
 ern den Heiligen Geist einhauchte\, veränder-te sich ihre Situation grundl
 egend.' Aus verzagten und verängstigten Jüngern seien begeis-terte\, mutig
 e und leidenschaftliche Apostel geworden. „Diese Erfahrung brauchen wir ge
 ra-de in diesen Zeiten. So feiern wir einen im wahrsten Sinn des Wortes ge
 istreichen Pfingst-gottesdienst.'\n\nMusikalisch begleitet wird der Gottes
 dienst von Diözesankantor Gordon Safari an der Orgel. Safari hat auch die 
 musikalische Gesamtleitung. Mit dabei sind Lisa Mauracher (Gesang und Gita
 rre)\, Maren Janiczek mit ihren Kindern Lisa\, Julia und Fabian (Keyboard\
 , Geige\, Querflöte\, Gesang). Weiters singen und spielen Mitglieder des E
 nsembles BachWerkVokal: Electra Lochhead (Sopran)\, Tamara Obermayr (Alt)\
 , Max Tavella (Bass) und Hannah Vin-zens (Violoncello).
DTSTART:20200601T100000
DTEND:20200601T100000
SUMMARY:Radio-Gottesdienst am Pfingstmontag aus Kufstein
END:VEVENT
END:VCALENDAR
