BEGIN:VCALENDAR
VERSION:2.0
PRODID:-//91.230.22.151//NONSGML kigkonsult.se iCalcreator 2.16.12//
BEGIN:VTIMEZONE
TZID:Europe/London
TZOFFSETFROM:+0000
TZOFFSETTO:UM12
END:VTIMEZONE
BEGIN:VEVENT
UID:20260421T095837CEST-1515vuDdEpa@www.innsbruck-christuskirche.at
DTSTAMP:20260421T075837Z
DESCRIPTION:Am Palmsonntag\, 28.03.\, feiern wir coronabedingt zweimal dens
 elben Familiengottesdienst an zwei Terminen (um 9.30 und um 11 Uhr).\nAufg
 rund begrenzter Sitzplätze bitten wir um Anmeldung im Pfarramt!
DTSTART:20210328T110000
DTEND:20210328T110000
SUMMARY:Familiengottesdienst Christuskirche (2. Termin)
END:VEVENT
END:VCALENDAR
