BEGIN:VCALENDAR
VERSION:2.0
PRODID:-//91.230.22.151//NONSGML kigkonsult.se iCalcreator 2.16.12//
BEGIN:VTIMEZONE
TZID:Europe/London
TZOFFSETFROM:+0000
TZOFFSETTO:UM12
END:VTIMEZONE
BEGIN:VEVENT
UID:20260421T112605CEST-3114UlIZBWa@www.innsbruck-christuskirche.at
DTSTAMP:20260421T092605Z
DESCRIPTION:Aus der evangelischen Johanneskirche Wien-Liesing\n\nVorbereite
 t wird der Gottesdienst von einem ökumenischen Team evangelisch-methodisti
 scher\, evangelisch-lutherischer und römisch-katholischer Frauen. Musikali
 sch gestaltet wird die Feier von Magdaléna Tschmuck (Gesang) und István Má
 tyás (Orgel und Klavier).
DTSTART:20210307T100000
DTEND:20210307T100000
SUMMARY:Weltgebetstag der Frauen - Fernsehgottesdienst
END:VEVENT
END:VCALENDAR
