BEGIN:VCALENDAR
VERSION:2.0
PRODID:-//91.230.22.151//NONSGML kigkonsult.se iCalcreator 2.16.12//
BEGIN:VTIMEZONE
TZID:Europe/London
TZOFFSETFROM:+0000
TZOFFSETTO:UM12
END:VTIMEZONE
BEGIN:VEVENT
UID:20260421T101322CEST-9931tnRnbZa@www.innsbruck-christuskirche.at
DTSTAMP:20260421T081322Z
DESCRIPTION:\n	Sonntag\, 14.03.\, 08:30 Uhr: Ökumenischer Gottesdienst mit P
 farrer Bernhard Groß und Pfarrer Christof Pernter\; musikalische Gestaltun
 g durch Mitglieder des Kirchenchors\n	Montag\, 15.03.\, 18:30 Uhr: 'Hüpfen 
 und hoffen' und Einführung in das Lukasevangelium (Lukas 1\,39-56) mit Pfa
 rrer Bernd Hof\n	Dienstag\, 16.03.\, 18:30 Uhr: 'Rufen und berufen' (Lukas 
 5\,1-11) mit Pfarrer Bernhard Groß\n	Mittwoch\, 17.03.\, 18:30 Uhr: 'Heilen
  und danken' (Lukas 17\,11-19) mit Pfarrer Richard Rotter\n	Donnerstag\, 18
 .03.\, 18:30 Uhr: 'Kommen und gehen' (Lukas 24\,13-35) mit Pfarrer Christo
 ph Pernter\n\n\nPlakat
DTSTART:20210314T083000
DTEND:20210314T083000
SUMMARY:Ökumenische Bibelandachten Völs
END:VEVENT
BEGIN:VEVENT
UID:20260421T101322CEST-9933lvBVsFb@www.innsbruck-christuskirche.at
DTSTAMP:20260421T081322Z
DESCRIPTION:\n	Sonntag\, 14.03.\, 08:30 Uhr: Ökumenischer Gottesdienst mit P
 farrer Bernhard Groß und Pfarrer Christof Pernter\; musikalische Gestaltun
 g durch Mitglieder des Kirchenchors\n	Montag\, 15.03.\, 18:30 Uhr: 'Hüpfen 
 und hoffen' und Einführung in das Lukasevangelium (Lukas 1\,39-56) mit Pfa
 rrer Bernd Hof\n	Dienstag\, 16.03.\, 18:30 Uhr: 'Rufen und berufen' (Lukas 
 5\,1-11) mit Pfarrer Bernhard Groß\n	Mittwoch\, 17.03.\, 18:30 Uhr: 'Heilen
  und danken' (Lukas 17\,11-19) mit Pfarrer Richard Rotter\n	Donnerstag\, 18
 .03.\, 18:30 Uhr: 'Kommen und gehen' (Lukas 24\,13-35) mit Pfarrer Christo
 ph Pernter\n\n\nPlakat
DTSTART:20210318T183000
DTEND:20210318T183000
SUMMARY:Ökumenische Bibelandachten Völs
END:VEVENT
BEGIN:VEVENT
UID:20260421T101322CEST-9935z91pHCc@www.innsbruck-christuskirche.at
DTSTAMP:20260421T081322Z
DESCRIPTION:\n	Sonntag\, 14.03.\, 08:30 Uhr: Ökumenischer Gottesdienst mit P
 farrer Bernhard Groß und Pfarrer Christof Pernter\; musikalische Gestaltun
 g durch Mitglieder des Kirchenchors\n	Montag\, 15.03.\, 18:30 Uhr: 'Hüpfen 
 und hoffen' und Einführung in das Lukasevangelium (Lukas 1\,39-56) mit Pfa
 rrer Bernd Hof\n	Dienstag\, 16.03.\, 18:30 Uhr: 'Rufen und berufen' (Lukas 
 5\,1-11) mit Pfarrer Bernhard Groß\n	Mittwoch\, 17.03.\, 18:30 Uhr: 'Heilen
  und danken' (Lukas 17\,11-19) mit Pfarrer Richard Rotter\n	Donnerstag\, 18
 .03.\, 18:30 Uhr: 'Kommen und gehen' (Lukas 24\,13-35) mit Pfarrer Christo
 ph Pernter\n\n\nPlakat
DTSTART:20210317T183000
DTEND:20210317T183000
SUMMARY:Ökumenische Bibelandachten Völs
END:VEVENT
BEGIN:VEVENT
UID:20260421T101322CEST-9937WW7mnod@www.innsbruck-christuskirche.at
DTSTAMP:20260421T081322Z
DESCRIPTION:\n	Sonntag\, 14.03.\, 08:30 Uhr: Ökumenischer Gottesdienst mit P
 farrer Bernhard Groß und Pfarrer Christof Pernter\; musikalische Gestaltun
 g durch Mitglieder des Kirchenchors\n	Montag\, 15.03.\, 18:30 Uhr: 'Hüpfen 
 und hoffen' und Einführung in das Lukasevangelium (Lukas 1\,39-56) mit Pfa
 rrer Bernd Hof\n	Dienstag\, 16.03.\, 18:30 Uhr: 'Rufen und berufen' (Lukas 
 5\,1-11) mit Pfarrer Bernhard Groß\n	Mittwoch\, 17.03.\, 18:30 Uhr: 'Heilen
  und danken' (Lukas 17\,11-19) mit Pfarrer Richard Rotter\n	Donnerstag\, 18
 .03.\, 18:30 Uhr: 'Kommen und gehen' (Lukas 24\,13-35) mit Pfarrer Christo
 ph Pernter\n\n\nPlakat
DTSTART:20210316T183000
DTEND:20210316T183000
SUMMARY:Ökumenische Bibelandachten Völs
END:VEVENT
BEGIN:VEVENT
UID:20260421T101322CEST-99393st4VOe@www.innsbruck-christuskirche.at
DTSTAMP:20260421T081322Z
DESCRIPTION:\n	Sonntag\, 14.03.\, 08:30 Uhr: Ökumenischer Gottesdienst mit P
 farrer Bernhard Groß und Pfarrer Christof Pernter\; musikalische Gestaltun
 g durch Mitglieder des Kirchenchors\n	Montag\, 15.03.\, 18:30 Uhr: 'Hüpfen 
 und hoffen' und Einführung in das Lukasevangelium (Lukas 1\,39-56) mit Pfa
 rrer Bernd Hof\n	Dienstag\, 16.03.\, 18:30 Uhr: 'Rufen und berufen' (Lukas 
 5\,1-11) mit Pfarrer Bernhard Groß\n	Mittwoch\, 17.03.\, 18:30 Uhr: 'Heilen
  und danken' (Lukas 17\,11-19) mit Pfarrer Richard Rotter\n	Donnerstag\, 18
 .03.\, 18:30 Uhr: 'Kommen und gehen' (Lukas 24\,13-35) mit Pfarrer Christo
 ph Pernter\n\n\nPlakat
DTSTART:20210315T183000
DTEND:20210315T183000
SUMMARY:Ökumenische Bibelandachten Völs
END:VEVENT
END:VCALENDAR
