BEGIN:VCALENDAR
VERSION:2.0
PRODID:-//91.230.22.151//NONSGML kigkonsult.se iCalcreator 2.16.12//
BEGIN:VTIMEZONE
TZID:Europe/London
TZOFFSETFROM:+0000
TZOFFSETTO:UM12
END:VTIMEZONE
BEGIN:VEVENT
UID:20260422T102624CEST-0164eNNh2va@www.innsbruck-christuskirche.at
DTSTAMP:20260422T082624Z
DESCRIPTION:Der Ablauf orientiert sich an der gewohnten Liturgie\, die wir 
 auf ca. 40 Minuten konzentriert haben. Sie dürfen sich auf stimmungsvolle 
 Bilder freuen\, auf tolle Musik und auf berührende Texte. Wir blenden auch
  die Liedtexte ein und laden zum Mitsingen ein. Den Link zum Film finden s
 ie HIER.\n\nDie Osternacht beginnt in der Dunkelheit und führt ins Licht d
 es Ostermorgens. Zum Mitfeiern empfehlen wir daher\, am Ostersonntag (oder
  natürlich gerne auch an einem anderen Tag) frühmorgens den Wecker zu stel
 len\, aufzustehen\, eine Kerze bereitzustellen\, die morgendlichen Gesänge
  der Vögel ins Zimmer zu lassen\, das Licht abzuschalten oder zu dimmen un
 d das Video einzuschalten\, wenn es noch dunkel ist\, am besten ca. 45 Min
 uten vor dem 'offiziellen' Sonnenaufgang (in Innsbruck zu Ostern 2021 um c
 a. 6:00 Uhr).\n\nDenken Sie daran\, die Anzeige auf 'Vollbild' und bestmög
 liche Auflösung zu stellen.
DTSTART;VALUE=DATE:20210404
DTEND;VALUE=DATE:20210407
SUMMARY:Video der Osternacht@home 2020
END:VEVENT
END:VCALENDAR
