BEGIN:VCALENDAR
VERSION:2.0
PRODID:-//91.230.22.151//NONSGML kigkonsult.se iCalcreator 2.16.12//
BEGIN:VTIMEZONE
TZID:Europe/London
TZOFFSETFROM:+0000
TZOFFSETTO:UM12
END:VTIMEZONE
BEGIN:VEVENT
UID:20260421T094937CEST-5001GRDwxoa@www.innsbruck-christuskirche.at
DTSTAMP:20260421T074937Z
DESCRIPTION:Online auf Youtube aus der Auferstehungskirche in Salzburg\n\n
 \n	Lesung: Daniela Enzi\n	Sopran: Zsófia Szabó\n	Laute: Hans Brüderl\n	Violonc
 ello: Hannah Vinzens\n	Orgel: Gordon Safari\n\n\nPlakat\n\nGemeinsame Veran
 staltung:\n\n\n	Evangelisches Bildungswerk Salzburg\n	Evangelische Pfarrgeme
 inde Salzburg Auferstehungskirche\n	Ökumenischer Arbeitskreis Salzburg\n	Kat
 holische Kirche Erzdiözese Salzburg\n	Römisch-katholische Kirche Gneis\n
DTSTART:20210325T190000
DTEND:20210325T190000
SUMMARY:Ökumenische Passionsmeditation
END:VEVENT
END:VCALENDAR
