BEGIN:VCALENDAR
VERSION:2.0
PRODID:-//91.230.22.151//NONSGML kigkonsult.se iCalcreator 2.16.12//
BEGIN:VTIMEZONE
TZID:Europe/London
TZOFFSETFROM:+0000
TZOFFSETTO:UM12
END:VTIMEZONE
BEGIN:VEVENT
UID:20260421T094952CEST-9209NvPL28a@www.innsbruck-christuskirche.at
DTSTAMP:20260421T074952Z
DESCRIPTION:Das Flüchtlingslager 'Moria II' auf Lesbos ist wohl jeder und j
 edem ein Begriff. Noch immer leben in diesem provisorischen Lager über 7.0
 00 Menschen unter menschenunwürdigen Bedingungen. Ein Drittel der Menschen
  sind Kinder und minderjährige Jugendliche\, darunter ein hoher Anteil an 
 Kleinkindern. Österreich hat sich bisher\, trotz eindringlicher Appelle vo
 n allen Seiten der Bevölkerung\, der Aufnahme von Geflüchteten aus Moria v
 erweigert. Die von der Bundesregierung versprochene 'Hilfe vor Ort' kommt 
 laut einer Mitteilung der Plattform Courage nicht an oder geht am Bedarf v
 orbei.\n\nAm Samstag\, 27. März\, sind von vielen Organistationen und Init
 iativen landesweit Aktionen geplant\, um auf diese Situation aufmerksam zu
  machen und Zeichen der Mitmenschlichkeit zu setzen. Wir haben uns entschl
 ossen\, uns ebenfalls zu beteilen.\n\nWir treffen uns um ca. 11.40 Uhr vor
  der Christuskirche und werden für etwa eine halbe Stunde in Form einer An
 dacht mit Kerzen\, Gebet und Glockenläuten eine Mahnwache vor der Christus
 kirche abhalten.\n\nBitte bringen Sie eine Kerze (am besten eignen sich gr
 oße Grabkerzen mit Deckel) mit.\n\n
DTSTART:20210327T114000
DTEND:20210327T120000
SUMMARY:Mahnwache für Geflüchtete im Lager Moria II
END:VEVENT
END:VCALENDAR
