BEGIN:VCALENDAR
VERSION:2.0
PRODID:-//91.230.22.151//NONSGML kigkonsult.se iCalcreator 2.16.12//
BEGIN:VTIMEZONE
TZID:Europe/London
TZOFFSETFROM:+0000
TZOFFSETTO:UM12
END:VTIMEZONE
BEGIN:VEVENT
UID:20260421T122836CEST-4386F6uvxma@www.innsbruck-christuskirche.at
DTSTAMP:20260421T102836Z
DESCRIPTION:\n	5. Jänner 2026\, Treffpunkt 9:15 Uhr bei der Auferstehungskir
 che (Gutshofweg 8\, Innsbruck)\, Fahrt nach Wildermieming und Besichtigung
  der Kirche und des Krippenspielmuseums - Download Flyer\n
DTSTART;VALUE=DATE:20240710
DTEND;VALUE=DATE:20240711
SUMMARY:Spiritueller Spaziergang
END:VEVENT
BEGIN:VEVENT
UID:20260421T122836CEST-4391AIUkAHb@www.innsbruck-christuskirche.at
DTSTAMP:20260421T102836Z
DESCRIPTION:\n	5. Jänner 2026\, Treffpunkt 9:15 Uhr bei der Auferstehungskir
 che (Gutshofweg 8\, Innsbruck)\, Fahrt nach Wildermieming und Besichtigung
  der Kirche und des Krippenspielmuseums - Download Flyer\n
DTSTART;VALUE=DATE:20250731
DTEND;VALUE=DATE:20250801
SUMMARY:Spiritueller Spaziergang
END:VEVENT
BEGIN:VEVENT
UID:20260421T122836CEST-4394MGDHUkc@www.innsbruck-christuskirche.at
DTSTAMP:20260421T102836Z
DESCRIPTION:\n	5. Jänner 2026\, Treffpunkt 9:15 Uhr bei der Auferstehungskir
 che (Gutshofweg 8\, Innsbruck)\, Fahrt nach Wildermieming und Besichtigung
  der Kirche und des Krippenspielmuseums - Download Flyer\n
DTSTART;VALUE=DATE:20250722
DTEND;VALUE=DATE:20250723
SUMMARY:Spiritueller Spaziergang
END:VEVENT
BEGIN:VEVENT
UID:20260421T122836CEST-43972H3l9md@www.innsbruck-christuskirche.at
DTSTAMP:20260421T102836Z
DESCRIPTION:\n	5. Jänner 2026\, Treffpunkt 9:15 Uhr bei der Auferstehungskir
 che (Gutshofweg 8\, Innsbruck)\, Fahrt nach Wildermieming und Besichtigung
  der Kirche und des Krippenspielmuseums - Download Flyer\n
DTSTART;VALUE=DATE:20250104
DTEND;VALUE=DATE:20250105
SUMMARY:Spiritueller Spaziergang
END:VEVENT
BEGIN:VEVENT
UID:20260421T122836CEST-4400ka8g4de@www.innsbruck-christuskirche.at
DTSTAMP:20260421T102836Z
DESCRIPTION:\n	5. Jänner 2026\, Treffpunkt 9:15 Uhr bei der Auferstehungskir
 che (Gutshofweg 8\, Innsbruck)\, Fahrt nach Wildermieming und Besichtigung
  der Kirche und des Krippenspielmuseums - Download Flyer\n
DTSTART;VALUE=DATE:20240823
DTEND;VALUE=DATE:20240824
SUMMARY:Spiritueller Spaziergang
END:VEVENT
BEGIN:VEVENT
UID:20260421T122836CEST-4403SLUk8Sf@www.innsbruck-christuskirche.at
DTSTAMP:20260421T102836Z
DESCRIPTION:\n	5. Jänner 2026\, Treffpunkt 9:15 Uhr bei der Auferstehungskir
 che (Gutshofweg 8\, Innsbruck)\, Fahrt nach Wildermieming und Besichtigung
  der Kirche und des Krippenspielmuseums - Download Flyer\n
DTSTART;VALUE=DATE:20260105
DTEND;VALUE=DATE:20260106
SUMMARY:Spiritueller Spaziergang
END:VEVENT
END:VCALENDAR
