BEGIN:VCALENDAR
VERSION:2.0
PRODID:-//91.230.22.151//NONSGML kigkonsult.se iCalcreator 2.16.12//
BEGIN:VTIMEZONE
TZID:Europe/London
TZOFFSETFROM:+0000
TZOFFSETTO:UM12
END:VTIMEZONE
BEGIN:VEVENT
UID:20260419T154741CEST-7810Kau2Kla@www.innsbruck-christuskirche.at
DTSTAMP:20260419T134741Z
DTSTART:20251225T103000
DTEND:20251225T103000
SUMMARY:Weihnachtsgottesdienst Gemeindezentrum
END:VEVENT
END:VCALENDAR
