BEGIN:VCALENDAR
VERSION:2.0
PRODID:-//91.230.22.151//NONSGML kigkonsult.se iCalcreator 2.16.12//
BEGIN:VTIMEZONE
TZID:Europe/London
TZOFFSETFROM:+0000
TZOFFSETTO:UM12
END:VTIMEZONE
BEGIN:VEVENT
UID:20260423T111446CEST-5976KG05m8a@www.innsbruck-christuskirche.at
DTSTAMP:20260423T091446Z
DESCRIPTION:Theatergottesdienst „Dialog der Religionen'\n\nDie Ringparabel 
 aus dem weltbekannten Theaterklassiker „Nathan der Weise' steht im Mittelp
 unkt der Aufführung im Rahmen eines Gottesdienstes zum Dialog der Religion
 en.\n\nMit:\n\n\n	Marwan Abado - Oud & Schauspiel (Rolle des Sultan)\n	Fried
 erike Krosigk - Gesang & Schauspiel (Rolle des Nathan und des Dieners)\n	An
 negret Bauerle - Bassflöte und Querflöte\n	Sybille v. Both - Gesang & Orgel
 \n\n\nIm Mittelpunkt stehen die Szenen aus dem Theaterklassiker mit einem 
 Einführungsvortrag und einem moderierten Nachgespräch mit den Akteur*innen
  und dem Publikum.\n\nUnterstützt von: Evangelische Kirchenmusik Salzburg+
 Tirol\nNähere Informationen: www.theatergottesdienst.com
DTSTART:20260920T093000
DTEND:20260920T093000
SUMMARY:Theatergottesdienst Christuskirche
END:VEVENT
END:VCALENDAR
