BEGIN:VCALENDAR
VERSION:2.0
PRODID:-//91.230.22.151//NONSGML kigkonsult.se iCalcreator 2.16.12//
BEGIN:VTIMEZONE
TZID:Europe/London
TZOFFSETFROM:+0000
TZOFFSETTO:UM12
END:VTIMEZONE
BEGIN:VEVENT
UID:20260421T133952CEST-3820mFUpcna@www.innsbruck-christuskirche.at
DTSTAMP:20260421T113952Z
DESCRIPTION:Möglichkeit 1: Ab 14 Uhr von der Hungerburg aus (Dauer ca. 2. S
 td.)\nMöglichkeit 2: Ab 15 Uhr vom Planötzenhof aus (Dauer ca. 50 Min.)\n1
 6 Uhr: Ökumenische Andacht mit Pfr. Bernhard Kranebitter\n\nDiese ökumenis
 che Wanderung zum Höttinger Bild bietet Austausch rund ums Thema Natur und
  Schöpfung. Gemeinsam feiern wir dann eine ökumenische Andacht\nAnschließe
 nd Möglichkeit zum gemütlichen Beisammensein im Planötzenhof (nach Anmeldu
 ng unter initiative@oekumene-tirol.at)\nDie ökumenische Andacht findet bei
  jeder Wetterlage statt!\n\nWeitere Informationen: Ökumenische Initiative 
 Tirol
DTSTART;VALUE=DATE:20250927
DTEND;VALUE=DATE:20250928
SUMMARY:Ökumenische Schöpfungswanderung
END:VEVENT
END:VCALENDAR
