BEGIN:VCALENDAR
VERSION:2.0
PRODID:-//91.230.22.151//NONSGML kigkonsult.se iCalcreator 2.16.12//
BEGIN:VTIMEZONE
TZID:Europe/London
TZOFFSETFROM:+0000
TZOFFSETTO:UM12
END:VTIMEZONE
BEGIN:VEVENT
UID:20260419T154817CEST-1272EzulGsa@www.innsbruck-christuskirche.at
DTSTAMP:20260419T134817Z
DESCRIPTION:Mit einem musikalischen Adventkalender begleitet die Evangelisc
 he Kirche Österreich ab 1. Dezember durch die Vorweihnachtszeit. Dazu wird
  auf ihrem YouTube-Kanal jeden Tag bis 24. Dezember ein neues\, etwa dreim
 inütiges Musikvideo zu sehen sein. Die musikalischen Beiträge kommen von v
 erschiedenen Ensembles und Interpreten aus evangelischen Pfarrgemeinden in
  ganz Österreich. Wir hören moderne Interpretationen\, Eigenkompositionen\
 , sowie klassische\, bekannte Stücke rund um die Weihnachtszeit.\n\nAuch d
 er Chor der Christuskirche ist dieses Jahr mit zwei Beiträgen dabei (Zum N
 achschauen: Beitrag vom 10.12. und Beitrag vom 18.12.)
DTSTART;VALUE=DATE:20251201
DTEND;VALUE=DATE:20251225
SUMMARY:Musikalischer Adventkalender
END:VEVENT
END:VCALENDAR
