BEGIN:VCALENDAR
VERSION:2.0
PRODID:-//91.230.22.151//NONSGML kigkonsult.se iCalcreator 2.16.12//
BEGIN:VTIMEZONE
TZID:Europe/London
TZOFFSETFROM:+0000
TZOFFSETTO:UM12
END:VTIMEZONE
BEGIN:VEVENT
UID:20260421T095904CEST-2240FIBVH1a@www.innsbruck-christuskirche.at
DTSTAMP:20260421T075904Z
DESCRIPTION:Herzliche Einladung zur nächsten Wanderung der Berggruppe des S
 eniorenbüros!\n\nTermine (witterungsabhängig):\n\n03.07.\, 07.08.\, 04.09.
 \n\nDie Ziele für die Berggruppe werden zeitnah auf der Website der Christ
 uskirche bekannt gegeben.\n\nAnmeldung bei Gabriele Redlich: servus.senior
 enbuero@ikbnet.at\, Tel. 0650-5213198
DTSTART;VALUE=DATE:20240607
DTEND;VALUE=DATE:20240608
SUMMARY:Seniorenbüro: Berggruppe
END:VEVENT
BEGIN:VEVENT
UID:20260421T095904CEST-2244NS64CCb@www.innsbruck-christuskirche.at
DTSTAMP:20260421T075904Z
DESCRIPTION:Herzliche Einladung zur nächsten Wanderung der Berggruppe des S
 eniorenbüros!\n\nTermine (witterungsabhängig):\n\n03.07.\, 07.08.\, 04.09.
 \n\nDie Ziele für die Berggruppe werden zeitnah auf der Website der Christ
 uskirche bekannt gegeben.\n\nAnmeldung bei Gabriele Redlich: servus.senior
 enbuero@ikbnet.at\, Tel. 0650-5213198
DTSTART;VALUE=DATE:20251003
DTEND;VALUE=DATE:20251004
SUMMARY:Seniorenbüro: Berggruppe
END:VEVENT
BEGIN:VEVENT
UID:20260421T095904CEST-2247xmeh4Fc@www.innsbruck-christuskirche.at
DTSTAMP:20260421T075904Z
DESCRIPTION:Herzliche Einladung zur nächsten Wanderung der Berggruppe des S
 eniorenbüros!\n\nTermine (witterungsabhängig):\n\n03.07.\, 07.08.\, 04.09.
 \n\nDie Ziele für die Berggruppe werden zeitnah auf der Website der Christ
 uskirche bekannt gegeben.\n\nAnmeldung bei Gabriele Redlich: servus.senior
 enbuero@ikbnet.at\, Tel. 0650-5213198
DTSTART;VALUE=DATE:20250905
DTEND;VALUE=DATE:20250906
SUMMARY:Seniorenbüro: Berggruppe
END:VEVENT
BEGIN:VEVENT
UID:20260421T095904CEST-2250cdUvORd@www.innsbruck-christuskirche.at
DTSTAMP:20260421T075904Z
DESCRIPTION:Herzliche Einladung zur nächsten Wanderung der Berggruppe des S
 eniorenbüros!\n\nTermine (witterungsabhängig):\n\n03.07.\, 07.08.\, 04.09.
 \n\nDie Ziele für die Berggruppe werden zeitnah auf der Website der Christ
 uskirche bekannt gegeben.\n\nAnmeldung bei Gabriele Redlich: servus.senior
 enbuero@ikbnet.at\, Tel. 0650-5213198
DTSTART;VALUE=DATE:20250801
DTEND;VALUE=DATE:20250802
SUMMARY:Seniorenbüro: Berggruppe
END:VEVENT
BEGIN:VEVENT
UID:20260421T095904CEST-2253oRtkG3e@www.innsbruck-christuskirche.at
DTSTAMP:20260421T075904Z
DESCRIPTION:Herzliche Einladung zur nächsten Wanderung der Berggruppe des S
 eniorenbüros!\n\nTermine (witterungsabhängig):\n\n03.07.\, 07.08.\, 04.09.
 \n\nDie Ziele für die Berggruppe werden zeitnah auf der Website der Christ
 uskirche bekannt gegeben.\n\nAnmeldung bei Gabriele Redlich: servus.senior
 enbuero@ikbnet.at\, Tel. 0650-5213198
DTSTART;VALUE=DATE:20250704
DTEND;VALUE=DATE:20250705
SUMMARY:Seniorenbüro: Berggruppe
END:VEVENT
BEGIN:VEVENT
UID:20260421T095904CEST-2256KPf08Cf@www.innsbruck-christuskirche.at
DTSTAMP:20260421T075904Z
DESCRIPTION:Herzliche Einladung zur nächsten Wanderung der Berggruppe des S
 eniorenbüros!\n\nTermine (witterungsabhängig):\n\n03.07.\, 07.08.\, 04.09.
 \n\nDie Ziele für die Berggruppe werden zeitnah auf der Website der Christ
 uskirche bekannt gegeben.\n\nAnmeldung bei Gabriele Redlich: servus.senior
 enbuero@ikbnet.at\, Tel. 0650-5213198
DTSTART;VALUE=DATE:20250606
DTEND;VALUE=DATE:20250607
SUMMARY:Seniorenbüro: Berggruppe
END:VEVENT
BEGIN:VEVENT
UID:20260421T095904CEST-22595cogUJg@www.innsbruck-christuskirche.at
DTSTAMP:20260421T075904Z
DESCRIPTION:Herzliche Einladung zur nächsten Wanderung der Berggruppe des S
 eniorenbüros!\n\nTermine (witterungsabhängig):\n\n03.07.\, 07.08.\, 04.09.
 \n\nDie Ziele für die Berggruppe werden zeitnah auf der Website der Christ
 uskirche bekannt gegeben.\n\nAnmeldung bei Gabriele Redlich: servus.senior
 enbuero@ikbnet.at\, Tel. 0650-5213198
DTSTART;VALUE=DATE:20250502
DTEND;VALUE=DATE:20250503
SUMMARY:Seniorenbüro: Berggruppe
END:VEVENT
BEGIN:VEVENT
UID:20260421T095904CEST-22627kURrjh@www.innsbruck-christuskirche.at
DTSTAMP:20260421T075904Z
DESCRIPTION:Herzliche Einladung zur nächsten Wanderung der Berggruppe des S
 eniorenbüros!\n\nTermine (witterungsabhängig):\n\n03.07.\, 07.08.\, 04.09.
 \n\nDie Ziele für die Berggruppe werden zeitnah auf der Website der Christ
 uskirche bekannt gegeben.\n\nAnmeldung bei Gabriele Redlich: servus.senior
 enbuero@ikbnet.at\, Tel. 0650-5213198
DTSTART;VALUE=DATE:20241004
DTEND;VALUE=DATE:20241005
SUMMARY:Seniorenbüro: Berggruppe
END:VEVENT
BEGIN:VEVENT
UID:20260421T095904CEST-2265UULBd9i@www.innsbruck-christuskirche.at
DTSTAMP:20260421T075904Z
DESCRIPTION:Herzliche Einladung zur nächsten Wanderung der Berggruppe des S
 eniorenbüros!\n\nTermine (witterungsabhängig):\n\n03.07.\, 07.08.\, 04.09.
 \n\nDie Ziele für die Berggruppe werden zeitnah auf der Website der Christ
 uskirche bekannt gegeben.\n\nAnmeldung bei Gabriele Redlich: servus.senior
 enbuero@ikbnet.at\, Tel. 0650-5213198
DTSTART;VALUE=DATE:20240906
DTEND;VALUE=DATE:20240907
SUMMARY:Seniorenbüro: Berggruppe
END:VEVENT
BEGIN:VEVENT
UID:20260421T095904CEST-2267jdbOBEj@www.innsbruck-christuskirche.at
DTSTAMP:20260421T075904Z
DESCRIPTION:Herzliche Einladung zur nächsten Wanderung der Berggruppe des S
 eniorenbüros!\n\nTermine (witterungsabhängig):\n\n03.07.\, 07.08.\, 04.09.
 \n\nDie Ziele für die Berggruppe werden zeitnah auf der Website der Christ
 uskirche bekannt gegeben.\n\nAnmeldung bei Gabriele Redlich: servus.senior
 enbuero@ikbnet.at\, Tel. 0650-5213198
DTSTART;VALUE=DATE:20240802
DTEND;VALUE=DATE:20240803
SUMMARY:Seniorenbüro: Berggruppe
END:VEVENT
BEGIN:VEVENT
UID:20260421T095904CEST-2270bJ54pzk@www.innsbruck-christuskirche.at
DTSTAMP:20260421T075904Z
DESCRIPTION:Herzliche Einladung zur nächsten Wanderung der Berggruppe des S
 eniorenbüros!\n\nTermine (witterungsabhängig):\n\n03.07.\, 07.08.\, 04.09.
 \n\nDie Ziele für die Berggruppe werden zeitnah auf der Website der Christ
 uskirche bekannt gegeben.\n\nAnmeldung bei Gabriele Redlich: servus.senior
 enbuero@ikbnet.at\, Tel. 0650-5213198
DTSTART;VALUE=DATE:20240705
DTEND;VALUE=DATE:20240706
SUMMARY:Seniorenbüro: Berggruppe
END:VEVENT
BEGIN:VEVENT
UID:20260421T095904CEST-2272EBfjlOl@www.innsbruck-christuskirche.at
DTSTAMP:20260421T075904Z
DESCRIPTION:Herzliche Einladung zur nächsten Wanderung der Berggruppe des S
 eniorenbüros!\n\nTermine (witterungsabhängig):\n\n03.07.\, 07.08.\, 04.09.
 \n\nDie Ziele für die Berggruppe werden zeitnah auf der Website der Christ
 uskirche bekannt gegeben.\n\nAnmeldung bei Gabriele Redlich: servus.senior
 enbuero@ikbnet.at\, Tel. 0650-5213198
DTSTART;VALUE=DATE:20260703
DTEND;VALUE=DATE:20260704
SUMMARY:Seniorenbüro: Berggruppe
END:VEVENT
BEGIN:VEVENT
UID:20260421T095904CEST-2275HocHBBm@www.innsbruck-christuskirche.at
DTSTAMP:20260421T075904Z
DESCRIPTION:Herzliche Einladung zur nächsten Wanderung der Berggruppe des S
 eniorenbüros!\n\nTermine (witterungsabhängig):\n\n03.07.\, 07.08.\, 04.09.
 \n\nDie Ziele für die Berggruppe werden zeitnah auf der Website der Christ
 uskirche bekannt gegeben.\n\nAnmeldung bei Gabriele Redlich: servus.senior
 enbuero@ikbnet.at\, Tel. 0650-5213198
DTSTART;VALUE=DATE:20260807
DTEND;VALUE=DATE:20260808
SUMMARY:Seniorenbüro: Berggruppe
END:VEVENT
BEGIN:VEVENT
UID:20260421T095904CEST-22772Zi8GEn@www.innsbruck-christuskirche.at
DTSTAMP:20260421T075904Z
DESCRIPTION:Herzliche Einladung zur nächsten Wanderung der Berggruppe des S
 eniorenbüros!\n\nTermine (witterungsabhängig):\n\n03.07.\, 07.08.\, 04.09.
 \n\nDie Ziele für die Berggruppe werden zeitnah auf der Website der Christ
 uskirche bekannt gegeben.\n\nAnmeldung bei Gabriele Redlich: servus.senior
 enbuero@ikbnet.at\, Tel. 0650-5213198
DTSTART;VALUE=DATE:20260904
DTEND;VALUE=DATE:20260905
SUMMARY:Seniorenbüro: Berggruppe
END:VEVENT
END:VCALENDAR
