BEGIN:VCALENDAR
VERSION:2.0
PRODID:-//91.230.22.151//NONSGML kigkonsult.se iCalcreator 2.16.12//
BEGIN:VTIMEZONE
TZID:Europe/London
TZOFFSETFROM:+0000
TZOFFSETTO:UM12
END:VTIMEZONE
BEGIN:VEVENT
UID:20260421T095904CEST-7091Fa2JO0a@www.innsbruck-christuskirche.at
DTSTAMP:20260421T075904Z
DESCRIPTION:Kulturreise mit der Ökumenischen Initiative Tirol\n\nProgramm: 
 Händel-Festspiele in Halle an der Saale mit Besuch von Erfurt\, der Wartbu
 rg\, den Städten Naumburg und Berlin\nTermin: 4.-9. Juni 2024\nReisebeglei
 tung: Gerlinde Busse\nFrühbucherpreis bis 15. Jänner 2024\n\nInfos auf www
 .oekumene-tirol.at
DTSTART;VALUE=DATE:20240604
DTEND;VALUE=DATE:20240610
SUMMARY:Gemeinsam ökumenisch unterwegs
END:VEVENT
END:VCALENDAR
