BEGIN:VCALENDAR
VERSION:2.0
PRODID:-//91.230.22.151//NONSGML kigkonsult.se iCalcreator 2.16.12//
BEGIN:VTIMEZONE
TZID:Europe/London
TZOFFSETFROM:+0000
TZOFFSETTO:UM12
END:VTIMEZONE
BEGIN:VEVENT
UID:20260419T154741CEST-7973iVSWa6a@www.innsbruck-christuskirche.at
DTSTAMP:20260419T134741Z
DESCRIPTION:Probennachmittag und Vorbereitungen für das Krippenspiel 2025 m
 it Pfarrer Werner Geißelbrecht\, Pfarrerin Silke Dantine\, Jugendreferenti
 n Lilien Heit und Team.\n\nFrühzeitige Anmeldung erbeten: jugend@innsbruck
 -christuskirche.at\n\nAlle Termine und Informationen finden Sie auf diesem
  Flyer.
DTSTART:20251223T150000
DTEND:20251223T180000
SUMMARY:Krippenspiel Probennachmittag Christuskirche
END:VEVENT
END:VCALENDAR
