BEGIN:VCALENDAR
VERSION:2.0
PRODID:-//91.230.22.151//NONSGML kigkonsult.se iCalcreator 2.16.12//
BEGIN:VTIMEZONE
TZID:Europe/London
TZOFFSETFROM:+0000
TZOFFSETTO:UM12
END:VTIMEZONE
BEGIN:VEVENT
UID:20260420T084409CEST-0467FSxDxMa@www.innsbruck-christuskirche.at
DTSTAMP:20260420T064409Z
DESCRIPTION:Das Ensemble Continuum widmet sich unter der Leitung der Cembal
 istin Elina Albach seit mehreren Jahren dem Arrangement barocker Werke. Na
 chdem es in der Vergangenheit darum ging\, großbesetzte Werke kleiner zu m
 achen\, geht es in diesem rein instrumentalen Programm nun darum\, für die
  Orgel komponierte Solowerke von Johann Sebastian Bach auf kammermusikalis
 che Dimensionen zu übertragen.\n\nDie Idee Bachsche Orgelwerke für andere 
 Instrumente zu adaptieren ist nicht neu. Die Musiker*innen von Continuum s
 uchen indes originelle Wege\, das musikalische Material mit heutigen Mitte
 ln klanglich zu transformieren. Sie bewahren die Struktur und Affekte der 
 originalen Werke\, setzen sie aber mit einer ungewöhnlichen Mischung aus «
 alten» und «neuen» Instrumenten wie einerseits Zink und Viola da gamba und
  melodischem Schlagwerk andererseits in ungeahnten Klangfarben um.\n\nInsp
 iriert vom Gedicht Transcription of Organ Music des US-amerikanischen Dich
 ters Allen Ginsberg\, der als ein Hauptvertreter der Beat Generation gilt\
 , sucht dieses berührend schöne Programm nach neuen und überraschenden Weg
 en die Genialität\, Verrücktheit und Tiefe von Bachs Orgelwerken erlebbar 
 zu machen.\n\nVeranstalter: Innsbrucker Festwochen der Alten Musik\nInform
 ationen und Tickets
DTSTART:20240818T200000
DTEND:20240818T200000
SUMMARY:Innsbrucker Festwochen der Alten Musik: Wandlungen
END:VEVENT
END:VCALENDAR
