BEGIN:VCALENDAR
VERSION:2.0
PRODID:-//91.230.22.151//NONSGML kigkonsult.se iCalcreator 2.16.12//
BEGIN:VTIMEZONE
TZID:Europe/London
TZOFFSETFROM:+0000
TZOFFSETTO:UM12
END:VTIMEZONE
BEGIN:VEVENT
UID:20260423T234554CEST-8080gV1GsGa@www.innsbruck-christuskirche.at
DTSTAMP:20260423T214554Z
DESCRIPTION:Abwechslungsreiche und lustvolle Anregungen zu Konzentration un
 d Aufmerksamkeit\, Unterstützung des Gedächtnisses\, der Wahrnehmung\, der
  Erinnerung und Phantasie\, Festigung der eigenen Kompetenz. Steigert die 
 Geschwindigkeit der Informationsverarbeitung. Alle Gehirnfunktionen werden
  gefördert\, ohne sie zu überfordern. Gezielte Übungen mobilisieren die Re
 serven des Gehirns. Ein wichtiger Beitrag zur Gesundheitsvorsorge.\n\nHerb
 stkurs I - Gemeindezentrum\n\nVon 7. Oktober bis 25. November\, jeweils mi
 ttwochs von 9-11 Uhr im Gemeindezentrum Technikerstraße 50\nAnmeldung bitt
 e direkt bei Frau Dr. Gabriele Redlich: servus.seniorenbuero@ikbnet.at\, T
 el. 0650-5213198
DTSTART:20261007T093000
DTEND:20261007T110000
RRULE:FREQ=WEEKLY;UNTIL=20261126
SUMMARY:Mach mit bleib fit - Herbstkurs I (GZ)
END:VEVENT
END:VCALENDAR
