BEGIN:VCALENDAR
VERSION:2.0
PRODID:-//91.230.22.151//NONSGML kigkonsult.se iCalcreator 2.16.12//
BEGIN:VTIMEZONE
TZID:Europe/London
TZOFFSETFROM:+0000
TZOFFSETTO:UM12
END:VTIMEZONE
BEGIN:VEVENT
UID:20260421T094951CEST-8746tltrwZa@www.innsbruck-christuskirche.at
DTSTAMP:20260421T074951Z
DESCRIPTION:Dieser Tag bietet einen Einblick in die Arbeit der Johanniter i
 n Tirol und ein tolles Rahmenprogramm für Jung und Alt!\n\nHighlights:\n\n
 \n	Umfangreiches Kinderprogramm\n	Leistungsschau der Johanniter Rettungshund
 estaffel\n	Erste-Hilfe-Mitmach-Stationen\n	Unsere Pflegekräfte bieten einen 
 kleinen persönlichen Gesundheitscheck\n	buntes Bühnenprogramm\n	Glücksrad un
 d Tombola\n
DTSTART:20241012T100000
DTEND:20241012T160000
SUMMARY:Tag der Johanniter
END:VEVENT
END:VCALENDAR
