BEGIN:VCALENDAR
VERSION:2.0
PRODID:-//91.230.22.151//NONSGML kigkonsult.se iCalcreator 2.16.12//
BEGIN:VTIMEZONE
TZID:Europe/London
TZOFFSETFROM:+0000
TZOFFSETTO:UM12
END:VTIMEZONE
BEGIN:VEVENT
UID:20260421T094951CEST-8952MmWhz4a@www.innsbruck-christuskirche.at
DTSTAMP:20260421T074951Z
DESCRIPTION:Vortrag mit Dr. Sumaya Farhat-Naser\, palästinensische Christin
 \, Autorin und Friedensaktivistin.\n\nDownload Flyer
DTSTART:20241023T190000
DTEND:20241023T190000
SUMMARY:Im Krieg verlieren alle
END:VEVENT
END:VCALENDAR
