BEGIN:VCALENDAR
VERSION:2.0
PRODID:-//91.230.22.151//NONSGML kigkonsult.se iCalcreator 2.16.12//
BEGIN:VTIMEZONE
TZID:Europe/London
TZOFFSETFROM:+0000
TZOFFSETTO:UM12
END:VTIMEZONE
BEGIN:VEVENT
UID:20260421T122808CEST-3748uouiL7a@www.innsbruck-christuskirche.at
DTSTAMP:20260421T102808Z
DESCRIPTION:Die herausragende Stimme der portugiesischen Sopranistin Ana Vi
 eira Leite\, eine der brillantesten und gefragtesten jungen Sopranistinnen
  der europäischen Barockszene\, bietet zusammen mit dem aus Spanien stamme
 nden Concerto 1700 eine warmtönende bis kristalline Vision eines Schlüssel
 werks der Musik des 18. Jahrhunderts: die «Neun deutschen Arien» von Georg
  Friedrich Händel.\n\nDer Komponist vertonte nur selten Texte in seiner Mu
 ttersprache\, doch hier zog er Dichtungen von Barthold Heinrich Brockes Sa
 mmlung «Irdisches Vergnügen in Gott bestehend in Physicalisch- und Moralis
 chen Gedichten» heran und vertonte sie für Sopran\, Violine oder Flöte (od
 er Oboe) und Basso continuo. Die Texte thematisieren auf faszinierende Wei
 se die pantheistische Verehrung der Natur und der in ihr vorhandenen Schön
 heit und inspirierten Händel zu einer Musik von großer Intensität und melo
 discher Schönheit. Durchzogen sind sie von einem geradezu opernhaften Sinn
  für Deklamation und Kommunikation. So entwickelt sich in jeder der Da-cap
 o-Arien ein harmonischer Dialog zwischen Stimme und Melodieinstrument: ein
  Sinnbild des perfekten Gleichgewichts zwischen dem Menschlichen und dem G
 öttlichen.\n\nInformationen und Tickets unter www.altemusik.at
DTSTART:20250818T200000
DTEND:20250818T200000
SUMMARY:Innsbrucker Festwochen der Alten Musik: Harmonie
END:VEVENT
END:VCALENDAR
