BEGIN:VCALENDAR
VERSION:2.0
PRODID:-//91.230.22.151//NONSGML kigkonsult.se iCalcreator 2.16.12//
BEGIN:VTIMEZONE
TZID:Europe/London
TZOFFSETFROM:+0000
TZOFFSETTO:UM12
END:VTIMEZONE
BEGIN:VEVENT
UID:20260419T170446CEST-7076ilKgJDa@www.innsbruck-christuskirche.at
DTSTAMP:20260419T150446Z
DESCRIPTION:Eine „Gemeindeagende“ ist eine voll ausgearbeitete Liturgie\, d
 ie durch den Gottesdienst führt. Die Texte werden abwechselnd gesprochen. 
 So kann die versammelte Gemeinde vor Ort ohne Pfarrer*in oder Lektor*in se
 lbständig gemeinsam Gottesdienst feiern.
DTSTART:20250302T103000
DTEND:20250302T103000
SUMMARY:Gottesdienst mit Gemeindeagende Gemeindezentrum
END:VEVENT
BEGIN:VEVENT
UID:20260419T170446CEST-7079aNUtZPb@www.innsbruck-christuskirche.at
DTSTAMP:20260419T150446Z
DESCRIPTION:Eine „Gemeindeagende“ ist eine voll ausgearbeitete Liturgie\, d
 ie durch den Gottesdienst führt. Die Texte werden abwechselnd gesprochen. 
 So kann die versammelte Gemeinde vor Ort ohne Pfarrer*in oder Lektor*in se
 lbständig gemeinsam Gottesdienst feiern.
DTSTART:20251221T103000
DTEND:20251221T103000
SUMMARY:Gottesdienst mit Gemeindeagende Gemeindezentrum
END:VEVENT
BEGIN:VEVENT
UID:20260419T170446CEST-7081MWxGJ3c@www.innsbruck-christuskirche.at
DTSTAMP:20260419T150446Z
DESCRIPTION:Eine „Gemeindeagende“ ist eine voll ausgearbeitete Liturgie\, d
 ie durch den Gottesdienst führt. Die Texte werden abwechselnd gesprochen. 
 So kann die versammelte Gemeinde vor Ort ohne Pfarrer*in oder Lektor*in se
 lbständig gemeinsam Gottesdienst feiern.
DTSTART:20251102T103000
DTEND:20251102T103000
SUMMARY:Gottesdienst mit Gemeindeagende Gemeindezentrum
END:VEVENT
BEGIN:VEVENT
UID:20260419T170446CEST-7083LCriUcd@www.innsbruck-christuskirche.at
DTSTAMP:20260419T150446Z
DESCRIPTION:Eine „Gemeindeagende“ ist eine voll ausgearbeitete Liturgie\, d
 ie durch den Gottesdienst führt. Die Texte werden abwechselnd gesprochen. 
 So kann die versammelte Gemeinde vor Ort ohne Pfarrer*in oder Lektor*in se
 lbständig gemeinsam Gottesdienst feiern.
DTSTART:20251005T103000
DTEND:20251005T103000
SUMMARY:Gottesdienst mit Gemeindeagende Gemeindezentrum
END:VEVENT
BEGIN:VEVENT
UID:20260419T170446CEST-7085VM9vdue@www.innsbruck-christuskirche.at
DTSTAMP:20260419T150446Z
DESCRIPTION:Eine „Gemeindeagende“ ist eine voll ausgearbeitete Liturgie\, d
 ie durch den Gottesdienst führt. Die Texte werden abwechselnd gesprochen. 
 So kann die versammelte Gemeinde vor Ort ohne Pfarrer*in oder Lektor*in se
 lbständig gemeinsam Gottesdienst feiern.
DTSTART:20250504T103000
DTEND:20250504T103000
SUMMARY:Gottesdienst mit Gemeindeagende Gemeindezentrum
END:VEVENT
BEGIN:VEVENT
UID:20260419T170446CEST-70871OtrVVf@www.innsbruck-christuskirche.at
DTSTAMP:20260419T150446Z
DESCRIPTION:Eine „Gemeindeagende“ ist eine voll ausgearbeitete Liturgie\, d
 ie durch den Gottesdienst führt. Die Texte werden abwechselnd gesprochen. 
 So kann die versammelte Gemeinde vor Ort ohne Pfarrer*in oder Lektor*in se
 lbständig gemeinsam Gottesdienst feiern.
DTSTART:20250406T103000
DTEND:20250406T103000
SUMMARY:Gottesdienst mit Gemeindeagende Gemeindezentrum
END:VEVENT
BEGIN:VEVENT
UID:20260419T170446CEST-7088DiiEz7g@www.innsbruck-christuskirche.at
DTSTAMP:20260419T150446Z
DESCRIPTION:Eine „Gemeindeagende“ ist eine voll ausgearbeitete Liturgie\, d
 ie durch den Gottesdienst führt. Die Texte werden abwechselnd gesprochen. 
 So kann die versammelte Gemeinde vor Ort ohne Pfarrer*in oder Lektor*in se
 lbständig gemeinsam Gottesdienst feiern.
DTSTART:20260301T103000
DTEND:20260301T103000
SUMMARY:Gottesdienst mit Gemeindeagende Gemeindezentrum
END:VEVENT
BEGIN:VEVENT
UID:20260419T170446CEST-7090GHVkgsh@www.innsbruck-christuskirche.at
DTSTAMP:20260419T150446Z
DESCRIPTION:Eine „Gemeindeagende“ ist eine voll ausgearbeitete Liturgie\, d
 ie durch den Gottesdienst führt. Die Texte werden abwechselnd gesprochen. 
 So kann die versammelte Gemeinde vor Ort ohne Pfarrer*in oder Lektor*in se
 lbständig gemeinsam Gottesdienst feiern.
DTSTART:20260503T103000
DTEND:20260503T103000
SUMMARY:Gottesdienst mit Gemeindeagende Gemeindezentrum
END:VEVENT
BEGIN:VEVENT
UID:20260419T170446CEST-7092UTNW7ii@www.innsbruck-christuskirche.at
DTSTAMP:20260419T150446Z
DESCRIPTION:Eine „Gemeindeagende“ ist eine voll ausgearbeitete Liturgie\, d
 ie durch den Gottesdienst führt. Die Texte werden abwechselnd gesprochen. 
 So kann die versammelte Gemeinde vor Ort ohne Pfarrer*in oder Lektor*in se
 lbständig gemeinsam Gottesdienst feiern.
DTSTART:20260607T103000
DTEND:20260607T103000
SUMMARY:Gottesdienst mit Gemeindeagende Gemeindezentrum
END:VEVENT
END:VCALENDAR
