BEGIN:VCALENDAR
VERSION:2.0
PRODID:-//91.230.22.151//NONSGML kigkonsult.se iCalcreator 2.16.12//
BEGIN:VTIMEZONE
TZID:Europe/London
TZOFFSETFROM:+0000
TZOFFSETTO:UM12
END:VTIMEZONE
BEGIN:VEVENT
UID:20260421T110538CEST-1625OILIxaa@www.innsbruck-christuskirche.at
DTSTAMP:20260421T090538Z
DESCRIPTION:Abwechslungsreiche und lustvolle Anregungen zu Konzentration un
 d Aufmerksamkeit\, Unterstützung des Gedächtnisses\, der Wahrnehmung\, der
  Erinnerung und Phantasie\, Festigung der eigenen Kompetenz. Steigert die 
 Geschwindigkeit der Informationsverarbeitung. Alle Gehirnfunktionen werden
  gefördert\, ohne sie zu überfordern. Gezielte Übungen mobilisieren die Re
 serven des Gehirns. Ein wichtiger Beitrag zur Gesundheitsvorsorge.\n\nFrüh
 jahrskurs II im Gemeindezentrum Technikerstraße:\n\n\n	Von 16. April bis 25
 . Juni 2026\, jeweils donnerstags von 10-11.30 Uhr im Gemeindezentrum Tech
 nikerstraße 50 (Pause: 14. Mai\, 28. Mai und 4. Juni 2026)\n	Anmeldung bitt
 e direkt bei Frau Dr. Gabriele Redlich: servus.seniorenbuero@ikbnet.at\, T
 el. 0650-5213198\n
DTSTART:20260416T100000
DTEND:20260416T100000
EXDATE:20250501T000000,20250529T000000,20250619T000000,20260514T000000,2026
 0528T000000,20260604T000000
RRULE:FREQ=WEEKLY;UNTIL=20260626;BYDAY=TH
SUMMARY:Mach mit bleib fit - Frühjahrskurs GZ II
END:VEVENT
END:VCALENDAR
