BEGIN:VCALENDAR
VERSION:2.0
PRODID:-//91.230.22.151//NONSGML kigkonsult.se iCalcreator 2.16.12//
BEGIN:VTIMEZONE
TZID:Europe/London
TZOFFSETFROM:+0000
TZOFFSETTO:UM12
END:VTIMEZONE
BEGIN:VEVENT
UID:20260421T133952CEST-49368kuvFHa@www.innsbruck-christuskirche.at
DTSTAMP:20260421T113952Z
DESCRIPTION:Rudi Katholnig und Hans-Peter Steiner begeben sich in ihrem neu
 en Programm auf eine ungewöhnliche Reise. Unter dem Titel „Remember“ (erin
 nern) entstand eine Reihe sehr persönlicher und außergewöhnlicher Streifzü
 ge in die musikalische Vergangenheit.\n\nIn jedem dieser Titel ist der bes
 ondere Zugang der seit 2016 zusammenarbeitenden Musiker spürbar. Besonders
  beeinflusst haben das musikalische Schaffen der beiden zunächst Dave Brub
 ecks „Unsquare Dance“ und Paul Desmonds „Take Five“\, später waren es Rich
 ard Galliano und Astor Piazzolla\, die ihr musikalisches Weltbild entschei
 dend erweiterten. Nicht zu vergessen die Pop- und Rocksongs der 1970er und
  80er Jahre\, wie „Child in Time“ oder „Voyage“. All diese Erinnerungen sc
 himmern auch bei Rudi Katholnigs Eigenkompositionen durch. Dabei ist „Reme
 mber“\, das titelgebende Lied\, seine Hommage an Romed Mungenast\, einen g
 roßen österreichischen „Jenischen“.\nIhr Spiel ist eine musikalische Zeitr
 eise\, hinein in Bekanntes und Unbekanntes. Und nicht zufällig endet die E
 rinnerungsfahrt mit dem explizit politischen „Fables of Faubus“ von Charle
 s Mingus. Damit setzen die beiden Musiker nicht nur instrumental\, sondern
  auch mit Stimme und Text ein Statement gegen Rassismus und Diktaturen all
 er Art. Ihre Interpretationen verstehen sich als Verneigung vor der Vielfa
 lt unterschiedlichster Menschen und Kulturen.\n„Rudi Katholnig & Hans-Pete
 r Steiner“ konzertieren mittlerweile im gesamten europäischen Raum.\n\nVer
 anstalter: Kulturkreis Völs\nEintritt frei – Spenden herzlich willkommen.
DTSTART:20251004T193000
DTEND:20251004T193000
SUMMARY:Konzert: Accordion – Saxophon – Project
END:VEVENT
END:VCALENDAR
