BEGIN:VCALENDAR
VERSION:2.0
PRODID:-//91.230.22.151//NONSGML kigkonsult.se iCalcreator 2.16.12//
BEGIN:VTIMEZONE
TZID:Europe/London
TZOFFSETFROM:+0000
TZOFFSETTO:UM12
END:VTIMEZONE
BEGIN:VEVENT
UID:20260424T055223CEST-9620dE1Fepa@www.innsbruck-christuskirche.at
DTSTAMP:20260424T035223Z
DESCRIPTION:Konzertorganist Willem Harold Boog (Zeist\, NL) spielt Werke vo
 n J. Zwart\, G.F. Händel\, J.S. Bach\, S. Karg-Elert\, Th. Dubois\, J. Dem
 essieux\, W.H. Boog\n\nEintritt: Freiwillige Spenden für das Projekt Kinde
 rn eine Chance\n\nDownload Plakat
DTSTART:20250719T200000
DTEND:20250719T200000
SUMMARY:Benefiz-Orgelkonzert
END:VEVENT
END:VCALENDAR
