BEGIN:VCALENDAR
VERSION:2.0
PRODID:-//91.230.22.151//NONSGML kigkonsult.se iCalcreator 2.16.12//
BEGIN:VTIMEZONE
TZID:Europe/London
TZOFFSETFROM:+0000
TZOFFSETTO:UM12
END:VTIMEZONE
BEGIN:VEVENT
UID:20260421T134008CEST-6307pD6zl8a@www.innsbruck-christuskirche.at
DTSTAMP:20260421T114008Z
DTSTART:20250926T143000
DTEND:20250926T143000
SUMMARY:Gottesdienst Wohnheim St. Raphael
END:VEVENT
END:VCALENDAR
