BEGIN:VCALENDAR
VERSION:2.0
PRODID:-//91.230.22.151//NONSGML kigkonsult.se iCalcreator 2.16.12//
BEGIN:VTIMEZONE
TZID:Europe/London
TZOFFSETFROM:+0000
TZOFFSETTO:UM12
END:VTIMEZONE
BEGIN:VEVENT
UID:20260419T154838CEST-5380VM7hLGa@www.innsbruck-christuskirche.at
DTSTAMP:20260419T134838Z
DESCRIPTION:Das vorweihnachtliche Konzert ist schon seit vielen Jahren Trad
 ition des Kulturkreises Völs. Zur Einstimmung auf Weihnachten werden „Die 
 Vielsaitigen“ adventliche und weihnachtliche Weisen spielen und singen und
  uns auf Weihnachten einstimmen. Dazwischen werden von Mag.a Melanie-Brigi
 tte Gärtner besinnliche Texte zur Adventzeit gelesen. Für Tee\, Glühwein u
 nd Kekse ist gesorgt. Verbringen Sie eine besinnliche\, musikalische Stund
 e in der stillsten Zeit des Jahres!\n\nEine gemeinsame musikalische Leiden
 schaft und langjährige Freundschaft verbindet die vier Musikerinnen der Vi
 elsaitigen schon seit 15 Jahren. Die alpenländische Volksmusik besticht du
 rch ihre Lebendigkeit und die spürbare Verbindung zwischen Vergangenheit u
 nd Jetzt. Den Vielsaitigen ist es ein großes Anliegen die traditionelle Vo
 lksmusik zu bewahren und gleichzeitig zu ihrer Weiterentwicklung beizutrag
 en. Gemeinsam lassen sie in verschiedenen Besetzungen mit (Tenor-)Hackbret
 t\, Harfe\, Gitarre\, Kontrabass und Querflöte Musik in ihrer ganz persönl
 ichen Art erklingen. \n\nBesetzung:\nTheresa Deiser-Giner Hackbrett\, Harf
 e\nSabrina Klotz Gitarre\nLisa Strickner Kontrabass\nAnna Strickner Hackbr
 ett\n\nVeranstalter: Kulturkreis Völs\nEintritt frei – Spenden herzlich wi
 llkommen!
DTSTART:20251219T200000
DTEND:20251219T200000
SUMMARY:Konzert: Die Vielsaitigen
END:VEVENT
END:VCALENDAR
